BEGIN:VCALENDAR
VERSION:2.0
PRODID:-//ChamberMaster//Event Calendar 2.0//EN
METHOD:PUBLISH
X-PUBLISHED-TTL:P3D
REFRESH-INTERVAL:P3D
CALSCALE:GREGORIAN
BEGIN:VEVENT
DTSTART:20250218T150000Z
DTEND:20250219T040000Z
X-MICROSOFT-CDO-ALLDAYEVENT:FALSE
SUMMARY:Thrivent Tuesday Coffee at Java River
DESCRIPTION:Thrivent will be having our monthly Thrivent coffee on February 18th from 9-10 a.m. at Java River in Montevideo. Please join us for coffee\, pastries and fellowship. Bring a friend - all are welcome!
X-ALT-DESC;FMTTYPE=text/html:<span style="font-size:26px\;"><span style="color: rgb(8\, 8\, 9)\; font-family: &quot\;Segoe UI Historic&quot\;\, &quot\;Segoe UI&quot\;\, Helvetica\, Arial\, sans-serif\;">&nbsp\;Thrivent will be having our monthly Thrivent coffee on February 18th from 9-10 a.m. at Java River in Montevideo. Please join us for coffee\, pastries and fellowship. Bring a friend - all are welcome!</span></span>
LOCATION:Java River Coffee Shop 210 S 1st street
UID:e.285.21154
SEQUENCE:3
DTSTAMP:20260424T142852Z
URL:http://montevideochamber.chambermaster.com/events/details/thrivent-tuesday-coffee-at-java-river-21154
END:VEVENT

END:VCALENDAR
