BEGIN:VCALENDAR
VERSION:2.0
PRODID:-//ChamberMaster//Event Calendar 2.0//EN
METHOD:PUBLISH
X-PUBLISHED-TTL:P3D
REFRESH-INTERVAL:P3D
CALSCALE:GREGORIAN
BEGIN:VEVENT
DTSTART:20250315T210000Z
DTEND:20250315T220000Z
X-MICROSOFT-CDO-ALLDAYEVENT:FALSE
SUMMARY:St. Patrick's Parade
DESCRIPTION:Time to get out your green and help celebrate the St. Patrick's Parade! We will be dancing a jig and the Guinness will be dark at our local pubs. Come one\, come all as we are all Irish on St. Patrick's day!
X-ALT-DESC;FMTTYPE=text/html:<span style="font-family:verdana\;"><span style="font-size:22px\;">Time to get out your green and help celebrate the St. Patrick&#39\;s Parade! We will be dancing a jig and the Guinness will be dark at our local pubs. Come one\, come all as we are all Irish on St. Patrick&#39\;s day!&nbsp\;</span></span>
LOCATION:Montevideo Main Street from Olsen Plumbing\, to Mind Your Business.
UID:e.285.21156
SEQUENCE:3
DTSTAMP:20260423T233751Z
URL:http://montevideochamber.chambermaster.com/events/details/st-patrick-s-parade-21156
END:VEVENT

END:VCALENDAR
