BEGIN:VCALENDAR
VERSION:2.0
PRODID:-//ChamberMaster//Event Calendar 2.0//EN
METHOD:PUBLISH
X-PUBLISHED-TTL:P3D
REFRESH-INTERVAL:P3D
CALSCALE:GREGORIAN
BEGIN:VEVENT
DTSTART:20241129T150000Z
DTEND:20241130T000000Z
X-MICROSOFT-CDO-ALLDAYEVENT:FALSE
SUMMARY:Drex Mart Black Friday
DESCRIPTION:BLACK FRIDAY SAVINGS!!\n\nThe first 10 families will receive a FREE TURKEY! Plus 20% off your entire purchase on top of the already HUGE SAVINGS! Doors open 9am to 6pm! No phone orders... in person only sales!
X-ALT-DESC;FMTTYPE=text/html:<span style="font-size:24px\;"><span style="color: rgb(8\, 8\, 9)\; font-family: &quot\;Segoe UI Historic&quot\;\, &quot\;Segoe UI&quot\;\, Helvetica\, Arial\, sans-serif\;">BLACK FRIDAY SAVINGS!!<br />\nThe first 10 families will receive a FREE TURKEY! Plus 20% off your entire purchase on top of the already HUGE SAVINGS! Doors open 9am to 6pm! No phone orders... in person only sales!&nbsp\;</span></span>
LOCATION:353 Wilkins Street Montevideo
UID:e.285.21143
SEQUENCE:3
DTSTAMP:20260422T022152Z
URL:http://montevideochamber.chambermaster.com/events/details/drex-mart-black-friday-21143
END:VEVENT

END:VCALENDAR
