BEGIN:VCALENDAR
VERSION:2.0
PRODID:-//ChamberMaster//Event Calendar 2.0//EN
METHOD:PUBLISH
X-PUBLISHED-TTL:P3D
REFRESH-INTERVAL:P3D
CALSCALE:GREGORIAN
BEGIN:VEVENT
DTSTART;VALUE=DATE:20180413
DTEND;VALUE=DATE:20180416
TRANSP:TRANSPARENT
X-MICROSOFT-CDO-ALLDAYEVENT:TRUE
SUMMARY:Cinderella
DESCRIPTION:Montevideo High School Music Department presents Cinderella!
X-ALT-DESC;FMTTYPE=text/html:Montevideo High School Music Department presents Cinderella!
LOCATION:Fine Arts Center
UID:e.285.16642
SEQUENCE:3
DTSTAMP:20260424T090053Z
URL:http://montevideochamber.chambermaster.com/events/details/cinderella-16642
END:VEVENT

END:VCALENDAR
